BEGIN:VCALENDAR
VERSION:2.0
PRODID:-//Exult - ECPv6.15.15//NONSGML v1.0//EN
CALSCALE:GREGORIAN
METHOD:PUBLISH
X-ORIGINAL-URL:https://www.exult.co.nz
X-WR-CALDESC:Events for Exult
REFRESH-INTERVAL;VALUE=DURATION:PT1H
X-Robots-Tag:noindex
X-PUBLISHED-TTL:PT1H
BEGIN:VTIMEZONE
TZID:Pacific/Auckland
BEGIN:STANDARD
TZOFFSETFROM:+1300
TZOFFSETTO:+1200
TZNAME:NZST
DTSTART:20210403T140000
END:STANDARD
BEGIN:DAYLIGHT
TZOFFSETFROM:+1200
TZOFFSETTO:+1300
TZNAME:NZDT
DTSTART:20210925T140000
END:DAYLIGHT
BEGIN:STANDARD
TZOFFSETFROM:+1300
TZOFFSETTO:+1200
TZNAME:NZST
DTSTART:20220402T140000
END:STANDARD
BEGIN:DAYLIGHT
TZOFFSETFROM:+1200
TZOFFSETTO:+1300
TZNAME:NZDT
DTSTART:20220924T140000
END:DAYLIGHT
BEGIN:STANDARD
TZOFFSETFROM:+1300
TZOFFSETTO:+1200
TZNAME:NZST
DTSTART:20230401T140000
END:STANDARD
BEGIN:DAYLIGHT
TZOFFSETFROM:+1200
TZOFFSETTO:+1300
TZNAME:NZDT
DTSTART:20230923T140000
END:DAYLIGHT
END:VTIMEZONE
BEGIN:VEVENT
DTSTART;TZID=Pacific/Auckland:20220517T093000
DTEND;TZID=Pacific/Auckland:20220517T123000
DTSTAMP:20260422T073740
CREATED:20210614T183604Z
LAST-MODIFIED:20220320T225632Z
UID:14653-1652779800-1652790600@www.exult.co.nz
SUMMARY:Busting the Busy Trap Workshop - Online
DESCRIPTION:Are you in a role where you’re constantly juggling priorities? \nDo you have a workable schedule until you have to manage interruptions and put out other people’s fires? \nDo you work more hours than you’re supposed to because there’s always something more that needs to be done? \nJoin us for this online workshop that will help you put everything in order so that you have more time\, more energy\, and more control over how you use both. \nDelivered online over two x 3 hour Zoom sessions. \nPart 1: Thursday 17 May 2022 – 9:30am to 12.30pm \nPart 2: Tuesday 24 May 2022 – 9:30am to 12.30pm \nPlease note your ticket covers both Part 1 and Part 2 🙂
URL:https://www.exult.co.nz/events/busting-the-busy-trap-workshop-online/
LOCATION:ONLINE Zoom Meeting
CATEGORIES:Busting the Busy Trap
END:VEVENT
END:VCALENDAR