BEGIN:VCALENDAR
VERSION:2.0
PRODID:-//Exult - ECPv6.15.15//NONSGML v1.0//EN
CALSCALE:GREGORIAN
METHOD:PUBLISH
X-ORIGINAL-URL:https://www.exult.co.nz
X-WR-CALDESC:Events for Exult
REFRESH-INTERVAL;VALUE=DURATION:PT1H
X-Robots-Tag:noindex
X-PUBLISHED-TTL:PT1H
BEGIN:VTIMEZONE
TZID:Pacific/Auckland
BEGIN:STANDARD
TZOFFSETFROM:+1300
TZOFFSETTO:+1200
TZNAME:NZST
DTSTART:20250405T140000
END:STANDARD
BEGIN:DAYLIGHT
TZOFFSETFROM:+1200
TZOFFSETTO:+1300
TZNAME:NZDT
DTSTART:20250927T140000
END:DAYLIGHT
BEGIN:STANDARD
TZOFFSETFROM:+1300
TZOFFSETTO:+1200
TZNAME:NZST
DTSTART:20260404T140000
END:STANDARD
BEGIN:DAYLIGHT
TZOFFSETFROM:+1200
TZOFFSETTO:+1300
TZNAME:NZDT
DTSTART:20260926T140000
END:DAYLIGHT
BEGIN:STANDARD
TZOFFSETFROM:+1300
TZOFFSETTO:+1200
TZNAME:NZST
DTSTART:20270403T140000
END:STANDARD
BEGIN:DAYLIGHT
TZOFFSETFROM:+1200
TZOFFSETTO:+1300
TZNAME:NZDT
DTSTART:20270925T140000
END:DAYLIGHT
END:VTIMEZONE
BEGIN:VEVENT
DTSTART;TZID=Pacific/Auckland:20260225T093000
DTEND;TZID=Pacific/Auckland:20260225T123000
DTSTAMP:20260423T033956
CREATED:20251130T213951Z
LAST-MODIFIED:20260222T211316Z
UID:20017-1772011800-1772022600@www.exult.co.nz
SUMMARY:Sustainable Funding Workshop - Hamilton
DESCRIPTION:Date: Wednesday 25 February 2026\, 9.30am-12.30pm\nVenue: Eastlink Badminton Stadium\, Hamilton East (no door sales sorry)\nPricing: $50 per person (including GST)\n\nPlease note our Booking and refund terms and conditions \n\nPayment must be received before the workshop date.\nLogistic details for the workshop will be sent 7 days before the workshop\, as long as payment has been received.\nRegistration fees are non-refundable.\nRegistration fees are transferable to another participant or can be held as a credit to be used within 1 year.\nIf the workshop is cancelled by Exult\, an alternative date will be offered where possible\, or a full refund is offered.\nExult reserves the right to alter the programme course details or facilitator.
URL:https://www.exult.co.nz/events/sustainable-funding-workshop-hamilton26/
LOCATION:Eastlink Badminton Stadium\, 60 Old Farm Road\, Hamilton East\, Waikato\, New Zealand
CATEGORIES:Sustainable Funding
END:VEVENT
END:VCALENDAR