BEGIN:VCALENDAR
VERSION:2.0
PRODID:-//Exult - ECPv6.15.15//NONSGML v1.0//EN
CALSCALE:GREGORIAN
METHOD:PUBLISH
X-ORIGINAL-URL:https://www.exult.co.nz
X-WR-CALDESC:Events for Exult
REFRESH-INTERVAL;VALUE=DURATION:PT1H
X-Robots-Tag:noindex
X-PUBLISHED-TTL:PT1H
BEGIN:VTIMEZONE
TZID:Pacific/Auckland
BEGIN:STANDARD
TZOFFSETFROM:+1300
TZOFFSETTO:+1200
TZNAME:NZST
DTSTART:20250405T140000
END:STANDARD
BEGIN:DAYLIGHT
TZOFFSETFROM:+1200
TZOFFSETTO:+1300
TZNAME:NZDT
DTSTART:20250927T140000
END:DAYLIGHT
BEGIN:STANDARD
TZOFFSETFROM:+1300
TZOFFSETTO:+1200
TZNAME:NZST
DTSTART:20260404T140000
END:STANDARD
BEGIN:DAYLIGHT
TZOFFSETFROM:+1200
TZOFFSETTO:+1300
TZNAME:NZDT
DTSTART:20260926T140000
END:DAYLIGHT
BEGIN:STANDARD
TZOFFSETFROM:+1300
TZOFFSETTO:+1200
TZNAME:NZST
DTSTART:20270403T140000
END:STANDARD
BEGIN:DAYLIGHT
TZOFFSETFROM:+1200
TZOFFSETTO:+1300
TZNAME:NZDT
DTSTART:20270925T140000
END:DAYLIGHT
END:VTIMEZONE
BEGIN:VEVENT
DTSTART;TZID=Pacific/Auckland:20260512T090000
DTEND;TZID=Pacific/Auckland:20260512T130000
DTSTAMP:20260421T141603
CREATED:20260127T225429Z
LAST-MODIFIED:20260323T223226Z
UID:20110-1778576400-1778590800@www.exult.co.nz
SUMMARY:NEW DATE! Raising Your Profile Workshop - Taupo (Thanks to Waiora Community House and BayTrust)
DESCRIPTION:Thanks to Waiora Community House and BayTrust \n\nNEW DATE! – Tuesday 12 May 2026\, 9am-1pm\nVenue – Waiora Community Centre\, 100 Kaimanawa Street\, Taupo 3330 (sorry no door sales)\nPricing: Standard ticket $85\, Tonic Member ticket $75\, Taupo Social Services Network ticket $25\, BayTrust subsidised ticket $25 (for eligible BOP organisations\, check your eligibility here)\n\nPlease note our Booking and refund terms and conditions \n\nPayment must be received before the workshop date.\nLogistic details for the workshop will be sent 7 days before the workshop\, as long as payment has been received.\nRegistration fees are non-refundable.\nRegistration fees are transferable to another participant or can be held as a credit to be used within 1 year.\nIf the workshop is cancelled by Exult\, an alternative date will be offered where possible\, or a full refund is offered.\nExult reserves the right to alter the programme course details or facilitator.
URL:https://www.exult.co.nz/events/raising-your-profile-taupo-2/
LOCATION:Waiora Community Centre\, 100 Kaimanawa Street\, Taupo\, 3330\, New Zealand
CATEGORIES:Raising Your Profile
END:VEVENT
END:VCALENDAR