BEGIN:VCALENDAR
VERSION:2.0
PRODID:-//Exult - ECPv6.15.15//NONSGML v1.0//EN
CALSCALE:GREGORIAN
METHOD:PUBLISH
X-ORIGINAL-URL:https://www.exult.co.nz
X-WR-CALDESC:Events for Exult
REFRESH-INTERVAL;VALUE=DURATION:PT1H
X-Robots-Tag:noindex
X-PUBLISHED-TTL:PT1H
BEGIN:VTIMEZONE
TZID:Pacific/Auckland
BEGIN:STANDARD
TZOFFSETFROM:+1300
TZOFFSETTO:+1200
TZNAME:NZST
DTSTART:20180331T140000
END:STANDARD
BEGIN:DAYLIGHT
TZOFFSETFROM:+1200
TZOFFSETTO:+1300
TZNAME:NZDT
DTSTART:20180929T140000
END:DAYLIGHT
BEGIN:STANDARD
TZOFFSETFROM:+1300
TZOFFSETTO:+1200
TZNAME:NZST
DTSTART:20190406T140000
END:STANDARD
BEGIN:DAYLIGHT
TZOFFSETFROM:+1200
TZOFFSETTO:+1300
TZNAME:NZDT
DTSTART:20190928T140000
END:DAYLIGHT
BEGIN:STANDARD
TZOFFSETFROM:+1300
TZOFFSETTO:+1200
TZNAME:NZST
DTSTART:20200404T140000
END:STANDARD
BEGIN:DAYLIGHT
TZOFFSETFROM:+1200
TZOFFSETTO:+1300
TZNAME:NZDT
DTSTART:20200926T140000
END:DAYLIGHT
END:VTIMEZONE
BEGIN:VEVENT
DTSTART;TZID=Pacific/Auckland:20191003T180000
DTEND;TZID=Pacific/Auckland:20191003T200000
DTSTAMP:20260420T221959
CREATED:20190729T214628Z
LAST-MODIFIED:20191004T013311Z
UID:11184-1570125600-1570132800@www.exult.co.nz
SUMMARY:Running an Effective Meeting - Rotorua
DESCRIPTION:$30 per person (For Bay of Plenty non-profit organisations thanks to Bay Trust subsidy) \nMore details
URL:https://www.exult.co.nz/events/running-an-effective-meeting-rotorua/
LOCATION:Ngongotaha Bowling Club\, 11 Domain Ave\, Ngongotaha\, 3041
CATEGORIES:Governance Express Series
ATTACH;FMTTYPE=image/png:https://www.exult.co.nz/wp-content/uploads/2018/06/Governance-01.png
END:VEVENT
BEGIN:VEVENT
DTSTART;TZID=Pacific/Auckland:20191021T180000
DTEND;TZID=Pacific/Auckland:20191021T200000
DTSTAMP:20260420T221959
CREATED:20190620T031624Z
LAST-MODIFIED:20190815T004222Z
UID:10886-1571680800-1571688000@www.exult.co.nz
SUMMARY:Running an Effective Meeting - Taupo
DESCRIPTION:$30 per person (For Bay of Plenty non-profit organisations thanks to Bay Trust subsidy) \nMore details
URL:https://www.exult.co.nz/events/running-an-effective-meeting-taupo/
LOCATION:Taupo Coastguard\, 14 Rauhoto Street\, Taupo\, Waikato\, 3377\, New Zealand
CATEGORIES:Governance Express Series
ATTACH;FMTTYPE=image/png:https://www.exult.co.nz/wp-content/uploads/2018/06/Governance-01.png
END:VEVENT
BEGIN:VEVENT
DTSTART;TZID=Pacific/Auckland:20191023T093000
DTEND;TZID=Pacific/Auckland:20191023T160000
DTSTAMP:20260420T221959
CREATED:20190408T024726Z
LAST-MODIFIED:20191002T022457Z
UID:10198-1571823000-1571846400@www.exult.co.nz
SUMMARY:Busting the Busy Trap - Rotorua
DESCRIPTION:$50 per person (For Bay of Plenty non-profit organisations thanks to Bay Trust subsidy) \nMore details
URL:https://www.exult.co.nz/events/busting-the-busy-trap-rotorua/
LOCATION:Linton Park Community Centre\, 16 Kamahi Place\, Pukehangi\, Rotorua\, Bay of Plenty\, 3015\, New Zealand
CATEGORIES:Busting the Busy Trap
ATTACH;FMTTYPE=image/png:https://www.exult.co.nz/wp-content/uploads/2018/06/Busy_trap-01.png
END:VEVENT
BEGIN:VEVENT
DTSTART;TZID=Pacific/Auckland:20191024T093000
DTEND;TZID=Pacific/Auckland:20191024T160000
DTSTAMP:20260420T221959
CREATED:20190408T025309Z
LAST-MODIFIED:20190408T025309Z
UID:10206-1571909400-1571932800@www.exult.co.nz
SUMMARY:Secret of Sponsorship - Tauranga
DESCRIPTION:$50 per person (For Bay of Plenty non-profit organisations thanks to Bay Trust subsidy) \nMore details
URL:https://www.exult.co.nz/events/secret-of-sponsorship-tauranga-2/
LOCATION:Tauranga Coastguard\, 72 Keith Allen Drive\, Sulphur Point\, Tauranga\, Bay of Plenty\, 3110\, New Zealand
CATEGORIES:Secret of Sponsorship
ATTACH;FMTTYPE=image/png:https://www.exult.co.nz/wp-content/uploads/2018/06/Secret_of_sponsorship-01.png
END:VEVENT
BEGIN:VEVENT
DTSTART;TZID=Pacific/Auckland:20191030T180000
DTEND;TZID=Pacific/Auckland:20191030T200000
DTSTAMP:20260420T221959
CREATED:20190620T031927Z
LAST-MODIFIED:20190801T222827Z
UID:10891-1572458400-1572465600@www.exult.co.nz
SUMMARY:The Power of Policies - Whakatane
DESCRIPTION:$30 per person (For Bay of Plenty non-profit organisations thanks to Bay Trust subsidy) \nMore details
URL:https://www.exult.co.nz/events/the-power-of-policies/
LOCATION:EastBay REAP\, 21 Pyne Street\, Whakatane
CATEGORIES:Governance Express Series
ATTACH;FMTTYPE=image/png:https://www.exult.co.nz/wp-content/uploads/2018/06/Governance-01.png
END:VEVENT
END:VCALENDAR