BEGIN:VCALENDAR
VERSION:2.0
PRODID:-//Exult - ECPv6.15.15//NONSGML v1.0//EN
CALSCALE:GREGORIAN
METHOD:PUBLISH
X-WR-CALNAME:Exult
X-ORIGINAL-URL:https://www.exult.co.nz
X-WR-CALDESC:Events for Exult
REFRESH-INTERVAL;VALUE=DURATION:PT1H
X-Robots-Tag:noindex
X-PUBLISHED-TTL:PT1H
BEGIN:VTIMEZONE
TZID:Pacific/Auckland
BEGIN:STANDARD
TZOFFSETFROM:+1300
TZOFFSETTO:+1200
TZNAME:NZST
DTSTART:20180331T140000
END:STANDARD
BEGIN:DAYLIGHT
TZOFFSETFROM:+1200
TZOFFSETTO:+1300
TZNAME:NZDT
DTSTART:20180929T140000
END:DAYLIGHT
BEGIN:STANDARD
TZOFFSETFROM:+1300
TZOFFSETTO:+1200
TZNAME:NZST
DTSTART:20190406T140000
END:STANDARD
BEGIN:DAYLIGHT
TZOFFSETFROM:+1200
TZOFFSETTO:+1300
TZNAME:NZDT
DTSTART:20190928T140000
END:DAYLIGHT
BEGIN:STANDARD
TZOFFSETFROM:+1300
TZOFFSETTO:+1200
TZNAME:NZST
DTSTART:20200404T140000
END:STANDARD
BEGIN:DAYLIGHT
TZOFFSETFROM:+1200
TZOFFSETTO:+1300
TZNAME:NZDT
DTSTART:20200926T140000
END:DAYLIGHT
END:VTIMEZONE
BEGIN:VEVENT
DTSTART;TZID=Pacific/Auckland:20191114T180000
DTEND;TZID=Pacific/Auckland:20191114T200000
DTSTAMP:20260421T000510
CREATED:20190620T032139Z
LAST-MODIFIED:20190801T222938Z
UID:10896-1573754400-1573761600@www.exult.co.nz
SUMMARY:Running an Effective Meeting - Tauranga
DESCRIPTION:$30 per person (For Bay of Plenty non-profit organisations thanks to Bay Trust subsidy) \nMore details
URL:https://www.exult.co.nz/events/running-an-effective-meeting-tauranga/
LOCATION:Waipuna Park Pavillion\, 25 Kaitemako Rd\, Welcome Bay\, Tauranga\, Bay of Plenty\, 3112\, New Zealand
CATEGORIES:Governance Express Series
ATTACH;FMTTYPE=image/png:https://www.exult.co.nz/wp-content/uploads/2018/06/Governance-01.png
END:VEVENT
BEGIN:VEVENT
DTSTART;TZID=Pacific/Auckland:20191126T173000
DTEND;TZID=Pacific/Auckland:20191126T200000
DTSTAMP:20260421T000510
CREATED:20190815T013639Z
LAST-MODIFIED:20191017T203725Z
UID:11314-1574789400-1574798400@www.exult.co.nz
SUMMARY:Getting Started with Governance - Auckland
DESCRIPTION:FULLY BOOKED – please email rosie@exult.co.nz to go on the waiting list \n$50 per person (Tonic Subscribers receive a 10% discount)
URL:https://www.exult.co.nz/events/getting-started-with-governance-auckland/
LOCATION:Community of St Luke\, 130 Remuera Road\, Auckland\, Auckland\, 1050\, New Zealand
CATEGORIES:Getting Started with Governance
ATTACH;FMTTYPE=image/png:https://www.exult.co.nz/wp-content/uploads/2018/06/Governance.png
END:VEVENT
BEGIN:VEVENT
DTSTART;TZID=Pacific/Auckland:20191127T093000
DTEND;TZID=Pacific/Auckland:20191127T160000
DTSTAMP:20260421T000510
CREATED:20190815T014103Z
LAST-MODIFIED:20190818T225659Z
UID:11319-1574847000-1574870400@www.exult.co.nz
SUMMARY:Growing Great Volunteer Teams - Auckland
DESCRIPTION:$120 per person (Tonic Subscribers receive a 10% discount)
URL:https://www.exult.co.nz/events/growing-great-volunteer-teams-auckland/
LOCATION:Community of St Luke\, 130 Remuera Road\, Auckland\, Auckland\, 1050\, New Zealand
CATEGORIES:Growing Great Volunteer Teams
ATTACH;FMTTYPE=image/png:https://www.exult.co.nz/wp-content/uploads/2018/06/Growing_great_volunteer_teams.png
END:VEVENT
BEGIN:VEVENT
DTSTART;TZID=Pacific/Auckland:20191128T093000
DTEND;TZID=Pacific/Auckland:20191128T160000
DTSTAMP:20260421T000510
CREATED:20190813T020929Z
LAST-MODIFIED:20190813T020929Z
UID:11298-1574933400-1574956800@www.exult.co.nz
SUMMARY:Sustainable Funding - Hamilton
DESCRIPTION:$120 per person (Tonic Subscribers receive a 10% discount)
URL:https://www.exult.co.nz/events/sustainable-funding-hamilton-2/
LOCATION:Brian Perry Sports House\, Akoranga Road\, Hamilton\, 3240
CATEGORIES:Sustainable Funding
ATTACH;FMTTYPE=image/png:https://www.exult.co.nz/wp-content/uploads/2018/06/Sustainable_funding-01.png
END:VEVENT
END:VCALENDAR