BEGIN:VCALENDAR
VERSION:2.0
PRODID:-//Exult - ECPv6.15.15//NONSGML v1.0//EN
CALSCALE:GREGORIAN
METHOD:PUBLISH
X-WR-CALNAME:Exult
X-ORIGINAL-URL:https://www.exult.co.nz
X-WR-CALDESC:Events for Exult
REFRESH-INTERVAL;VALUE=DURATION:PT1H
X-Robots-Tag:noindex
X-PUBLISHED-TTL:PT1H
BEGIN:VTIMEZONE
TZID:Pacific/Auckland
BEGIN:STANDARD
TZOFFSETFROM:+1300
TZOFFSETTO:+1200
TZNAME:NZST
DTSTART:20190406T140000
END:STANDARD
BEGIN:DAYLIGHT
TZOFFSETFROM:+1200
TZOFFSETTO:+1300
TZNAME:NZDT
DTSTART:20190928T140000
END:DAYLIGHT
BEGIN:STANDARD
TZOFFSETFROM:+1300
TZOFFSETTO:+1200
TZNAME:NZST
DTSTART:20200404T140000
END:STANDARD
BEGIN:DAYLIGHT
TZOFFSETFROM:+1200
TZOFFSETTO:+1300
TZNAME:NZDT
DTSTART:20200926T140000
END:DAYLIGHT
BEGIN:STANDARD
TZOFFSETFROM:+1300
TZOFFSETTO:+1200
TZNAME:NZST
DTSTART:20210403T140000
END:STANDARD
BEGIN:DAYLIGHT
TZOFFSETFROM:+1200
TZOFFSETTO:+1300
TZNAME:NZDT
DTSTART:20210925T140000
END:DAYLIGHT
END:VTIMEZONE
BEGIN:VEVENT
DTSTART;TZID=Pacific/Auckland:20200217T180000
DTEND;TZID=Pacific/Auckland:20200217T200000
DTSTAMP:20260421T044721
CREATED:20191122T012821Z
LAST-MODIFIED:20191127T224812Z
UID:11735-1581962400-1581969600@www.exult.co.nz
SUMMARY:Strategic Planning Part 1: Crafting Your Vision and Mission - Whakatane
DESCRIPTION:$30 per person (For Bay of Plenty non-profit organisations thanks to Bay Trust subsidy) \nMore details
URL:https://www.exult.co.nz/events/strategic-planning-part-1-crafting-your-vision-and-mission/
LOCATION:EastBay REAP\, 21 Pyne Street\, Whakatane
CATEGORIES:Governance Express Series
ATTACH;FMTTYPE=image/png:https://www.exult.co.nz/wp-content/uploads/2018/06/Governance.png
END:VEVENT
BEGIN:VEVENT
DTSTART;TZID=Pacific/Auckland:20200218T093000
DTEND;TZID=Pacific/Auckland:20200218T160000
DTSTAMP:20260421T044721
CREATED:20191122T013107Z
LAST-MODIFIED:20191127T224544Z
UID:11740-1582018200-1582041600@www.exult.co.nz
SUMMARY:Secret of Sponsorship - Whakatane
DESCRIPTION:$50 per person (For Bay of Plenty non-profit organisations thanks to Bay Trust subsidy) \nMore details
URL:https://www.exult.co.nz/events/11740/
LOCATION:EastBay REAP\, 21 Pyne Street\, Whakatane
CATEGORIES:Secret of Sponsorship
ATTACH;FMTTYPE=image/png:https://www.exult.co.nz/wp-content/uploads/2018/06/Secret_of_sponsorship.png
END:VEVENT
BEGIN:VEVENT
DTSTART;TZID=Pacific/Auckland:20200220T093000
DTEND;TZID=Pacific/Auckland:20200220T160000
DTSTAMP:20260421T044721
CREATED:20191125T231335Z
LAST-MODIFIED:20200220T004719Z
UID:11782-1582191000-1582214400@www.exult.co.nz
SUMMARY:Growing Great Volunteer Teams - Wellington
DESCRIPTION:$120 per person (Tonic Subscribers receive a 10% discount) \nIn partnership with the wonderful team at Volunteer Wellington \nRead More
URL:https://www.exult.co.nz/events/growing-great-volunteer-teams-wellington/
LOCATION:Salvation Army Wellington\, 92 Vivian Street\, Wellington\, 6011\, New Zealand
CATEGORIES:Growing Great Volunteer Teams
ATTACH;FMTTYPE=image/png:https://www.exult.co.nz/wp-content/uploads/2018/06/Growing_great_volunteer_teams.png
END:VEVENT
BEGIN:VEVENT
DTSTART;TZID=Pacific/Auckland:20200226T093000
DTEND;TZID=Pacific/Auckland:20200226T160000
DTSTAMP:20260421T044721
CREATED:20191125T022356Z
LAST-MODIFIED:20191203T225731Z
UID:11756-1582709400-1582732800@www.exult.co.nz
SUMMARY:Sustainable Funding - Auckland
DESCRIPTION:$120 per person (Tonic Subscribers receive a 10% discount) \nMore details
URL:https://www.exult.co.nz/events/sustainable-funding-auckland-2/
LOCATION:Community of St Luke\, 130 Remuera Road\, Auckland\, Auckland\, 1050\, New Zealand
CATEGORIES:Sustainable Funding
ATTACH;FMTTYPE=image/png:https://www.exult.co.nz/wp-content/uploads/2018/06/Sustainable_funding.png
END:VEVENT
BEGIN:VEVENT
DTSTART;TZID=Pacific/Auckland:20200227T093000
DTEND;TZID=Pacific/Auckland:20200227T160000
DTSTAMP:20260421T044721
CREATED:20190618T221049Z
LAST-MODIFIED:20200123T212920Z
UID:10836-1582795800-1582819200@www.exult.co.nz
SUMMARY:Facilitating Community-Led Change - Christchurch
DESCRIPTION:$79 per person (for non-profit and community groups) \n$220 per person (for local and regional government\, funders and private enterprise) \nWith thanks to Rata Foundation \nThis workshop is currently FULL. If you would like to go on the waiting list\, please email hello@exult.co.nz with your info. \nMore details
URL:https://www.exult.co.nz/events/facilitating-community-led-change-christchurch/
LOCATION:MacFarlane Park Centre\, 19A Acheson Avenue\, Shirley\, Christchurch\, Canterbury\, 8013
CATEGORIES:Inspiring Communities
END:VEVENT
END:VCALENDAR