BEGIN:VCALENDAR
VERSION:2.0
PRODID:-//Exult - ECPv6.15.15//NONSGML v1.0//EN
CALSCALE:GREGORIAN
METHOD:PUBLISH
X-ORIGINAL-URL:https://www.exult.co.nz
X-WR-CALDESC:Events for Exult
REFRESH-INTERVAL;VALUE=DURATION:PT1H
X-Robots-Tag:noindex
X-PUBLISHED-TTL:PT1H
BEGIN:VTIMEZONE
TZID:Pacific/Auckland
BEGIN:STANDARD
TZOFFSETFROM:+1300
TZOFFSETTO:+1200
TZNAME:NZST
DTSTART:20190406T140000
END:STANDARD
BEGIN:DAYLIGHT
TZOFFSETFROM:+1200
TZOFFSETTO:+1300
TZNAME:NZDT
DTSTART:20190928T140000
END:DAYLIGHT
BEGIN:STANDARD
TZOFFSETFROM:+1300
TZOFFSETTO:+1200
TZNAME:NZST
DTSTART:20200404T140000
END:STANDARD
BEGIN:DAYLIGHT
TZOFFSETFROM:+1200
TZOFFSETTO:+1300
TZNAME:NZDT
DTSTART:20200926T140000
END:DAYLIGHT
BEGIN:STANDARD
TZOFFSETFROM:+1300
TZOFFSETTO:+1200
TZNAME:NZST
DTSTART:20210403T140000
END:STANDARD
BEGIN:DAYLIGHT
TZOFFSETFROM:+1200
TZOFFSETTO:+1300
TZNAME:NZDT
DTSTART:20210925T140000
END:DAYLIGHT
END:VTIMEZONE
BEGIN:VEVENT
DTSTART;TZID=Pacific/Auckland:20200312T093000
DTEND;TZID=Pacific/Auckland:20200312T160000
DTSTAMP:20260421T081042
CREATED:20191125T022720Z
LAST-MODIFIED:20191211T030527Z
UID:11760-1584005400-1584028800@www.exult.co.nz
SUMMARY:Sustainable Funding - Whakatane
DESCRIPTION:$50 per person (For Bay of Plenty non-profit organisations thanks to Bay Trust subsidy) \nMore details
URL:https://www.exult.co.nz/events/sustainable-funding-whakatane-3/
LOCATION:EastBay REAP\, 21 Pyne Street\, Whakatane
CATEGORIES:Sustainable Funding
ATTACH;FMTTYPE=image/png:https://www.exult.co.nz/wp-content/uploads/2018/06/Sustainable_funding.png
END:VEVENT
BEGIN:VEVENT
DTSTART;TZID=Pacific/Auckland:20200317T180000
DTEND;TZID=Pacific/Auckland:20200317T200000
DTSTAMP:20260421T081042
CREATED:20191126T000238Z
LAST-MODIFIED:20200309T001515Z
UID:11789-1584468000-1584475200@www.exult.co.nz
SUMMARY:Strategic Planning Part 2: Creating the Plan - Taupo
DESCRIPTION:$30 per person (For Bay of Plenty non-profit organisations thanks to Bay Trust subsidy) \nMore details
URL:https://www.exult.co.nz/events/strategic-planning-part-2-creating-the-plan-taupo/
LOCATION:Taupo Coastguard\, 14 Rauhoto Street\, Taupo\, Waikato\, 3377\, New Zealand
CATEGORIES:Governance Express Series
ATTACH;FMTTYPE=image/png:https://www.exult.co.nz/wp-content/uploads/2018/06/Governance.png
END:VEVENT
BEGIN:VEVENT
DTSTART;TZID=Pacific/Auckland:20200318T093000
DTEND;TZID=Pacific/Auckland:20200318T160000
DTSTAMP:20260421T081042
CREATED:20191125T023037Z
LAST-MODIFIED:20200224T000338Z
UID:11765-1584523800-1584547200@www.exult.co.nz
SUMMARY:Secret of Sponsorship - Taupo
DESCRIPTION:$50 per person (For Bay of Plenty non-profit organisations thanks to Bay Trust subsidy) \nMore details
URL:https://www.exult.co.nz/events/secret-of-sponsorship-taupo/
LOCATION:Taupo Coastguard\, 14 Rauhoto Street\, Taupo\, Waikato\, 3377\, New Zealand
CATEGORIES:Secret of Sponsorship
ATTACH;FMTTYPE=image/png:https://www.exult.co.nz/wp-content/uploads/2018/06/Secret_of_sponsorship.png
END:VEVENT
BEGIN:VEVENT
DTSTART;TZID=Pacific/Auckland:20200325T093000
DTEND;TZID=Pacific/Auckland:20200325T160000
DTSTAMP:20260421T081042
CREATED:20191125T023300Z
LAST-MODIFIED:20200319T082804Z
UID:11770-1585128600-1585152000@www.exult.co.nz
SUMMARY:Secret of Sponsorship - Hamilton
DESCRIPTION:POSTPONED until Wednesday 27th May\, 9.30am until 4pm \n$120 per person (Tonic Subscribers receive a 10% discount)
URL:https://www.exult.co.nz/events/secret-of-sponsorship-hamilton/
LOCATION:Brian Perry Sports House\, Akoranga Road\, Hamilton\, 3240
CATEGORIES:Secret of Sponsorship
ATTACH;FMTTYPE=image/png:https://www.exult.co.nz/wp-content/uploads/2018/06/Secret_of_sponsorship.png
END:VEVENT
BEGIN:VEVENT
DTSTART;TZID=Pacific/Auckland:20200326T180000
DTEND;TZID=Pacific/Auckland:20200326T200000
DTSTAMP:20260421T081042
CREATED:20191126T000429Z
LAST-MODIFIED:20191126T000444Z
UID:11794-1585245600-1585252800@www.exult.co.nz
SUMMARY:The Power of Policies - Tauranga
DESCRIPTION:$30 per person (For Bay of Plenty non-profit organisations thanks to Bay Trust subsidy) \nMore details
URL:https://www.exult.co.nz/events/the-power-of-policies-tauranga/
LOCATION:Tauranga Coastguard\, 72 Keith Allen Drive\, Sulphur Point\, Tauranga\, Bay of Plenty\, 3110\, New Zealand
CATEGORIES:Governance Express Series
ATTACH;FMTTYPE=image/png:https://www.exult.co.nz/wp-content/uploads/2018/06/Governance.png
END:VEVENT
BEGIN:VEVENT
DTSTART;TZID=Pacific/Auckland:20200330T180000
DTEND;TZID=Pacific/Auckland:20200330T200000
DTSTAMP:20260421T081042
CREATED:20191126T000709Z
LAST-MODIFIED:20200302T081413Z
UID:11799-1585591200-1585598400@www.exult.co.nz
SUMMARY:Being a Successful Chair - Rotorua
DESCRIPTION:$30 per person (For Bay of Plenty non-profit organisations thanks to Bay Trust subsidy) \nMore details
URL:https://www.exult.co.nz/events/being-a-successful-chair-rotorua/
LOCATION:Linton Park Community Centre\, 16 Kamahi Place\, Pukehangi\, Rotorua\, Bay of Plenty\, 3015\, New Zealand
CATEGORIES:Governance Express Series
ATTACH;FMTTYPE=image/png:https://www.exult.co.nz/wp-content/uploads/2018/06/Governance.png
END:VEVENT
BEGIN:VEVENT
DTSTART;TZID=Pacific/Auckland:20200331T093000
DTEND;TZID=Pacific/Auckland:20200331T160000
DTSTAMP:20260421T081042
CREATED:20191125T023504Z
LAST-MODIFIED:20200308T224602Z
UID:11774-1585647000-1585670400@www.exult.co.nz
SUMMARY:Growing Great Volunteer Teams - Rotorua
DESCRIPTION:$50 per person (For Bay of Plenty non-profit organisations thanks to Bay Trust subsidy) \nIn this workshop you will discover: \n\nIf your organisation is even ready for volunteers. Are you losing volunteers before they properly come on-board? What things do you need to have in place before you start recruiting?\nHow to ensure your organisation offers a good fit for potential volunteers. Is there more than one model of volunteering and should you even care? What things do you need to consider in creating a ‘good fit’?\nThe difference between Recognition and Appreciation. What do volunteers really need to feel appreciated and how can you give it to them effectively?\nWhat being part of a team really means to volunteers. Are you providing a true team environment or is there an undercurrent of ‘them and us’?\nWhat makes a volunteer experience go from good to great? What are the simple things you can do to leave a lasting impression and develop loyalty in your volunteer team?\n\nThis workshop gives you loads of practical ideas for making your organisation a place where everyone wants to volunteer. Get more people helping out more often\, with more fun and more impact. \nMore details
URL:https://www.exult.co.nz/events/growing-great-volunteer-teams-rotorua/
LOCATION:Linton Park Community Centre\, 16 Kamahi Place\, Pukehangi\, Rotorua\, Bay of Plenty\, 3015\, New Zealand
CATEGORIES:Growing Great Volunteer Teams
ATTACH;FMTTYPE=image/png:https://www.exult.co.nz/wp-content/uploads/2018/06/Growing_great_volunteer_teams.png
END:VEVENT
END:VCALENDAR