BEGIN:VCALENDAR
VERSION:2.0
PRODID:-//Exult - ECPv6.15.15//NONSGML v1.0//EN
CALSCALE:GREGORIAN
METHOD:PUBLISH
X-ORIGINAL-URL:https://www.exult.co.nz
X-WR-CALDESC:Events for Exult
REFRESH-INTERVAL;VALUE=DURATION:PT1H
X-Robots-Tag:noindex
X-PUBLISHED-TTL:PT1H
BEGIN:VTIMEZONE
TZID:Pacific/Auckland
BEGIN:STANDARD
TZOFFSETFROM:+1300
TZOFFSETTO:+1200
TZNAME:NZST
DTSTART:20200404T140000
END:STANDARD
BEGIN:DAYLIGHT
TZOFFSETFROM:+1200
TZOFFSETTO:+1300
TZNAME:NZDT
DTSTART:20200926T140000
END:DAYLIGHT
BEGIN:STANDARD
TZOFFSETFROM:+1300
TZOFFSETTO:+1200
TZNAME:NZST
DTSTART:20210403T140000
END:STANDARD
BEGIN:DAYLIGHT
TZOFFSETFROM:+1200
TZOFFSETTO:+1300
TZNAME:NZDT
DTSTART:20210925T140000
END:DAYLIGHT
BEGIN:STANDARD
TZOFFSETFROM:+1300
TZOFFSETTO:+1200
TZNAME:NZST
DTSTART:20220402T140000
END:STANDARD
BEGIN:DAYLIGHT
TZOFFSETFROM:+1200
TZOFFSETTO:+1300
TZNAME:NZDT
DTSTART:20220924T140000
END:DAYLIGHT
END:VTIMEZONE
BEGIN:VEVENT
DTSTART;TZID=Pacific/Auckland:20210313T093000
DTEND;TZID=Pacific/Auckland:20210313T160000
DTSTAMP:20260421T153932
CREATED:20210209T191215Z
LAST-MODIFIED:20210209T224640Z
UID:14126-1615627800-1615651200@www.exult.co.nz
SUMMARY:Getting Your Board Onboard - Christchurch
DESCRIPTION:Join us for this 1-day workshop in association with Volunteering Canterbury. \nIf you want your organisation to work at its’ full potential\, you need a strong board/committee that truly understands their roles and responsibilities. However\, getting everyone on the same page can sometimes be a difficult task\, especially if you have a mix of new and long-standing trustees. \nThis workshop is designed to share models and ideas of what best practice non-profit Governance looks like. It is also vitally important to ensure there is great communication and clear understanding of the split of roles and responsibilities. \nThe workshop is usually $950 per organisation. In association with Volunteering Canterbury\, members of Volunteering Canterbury or Christchurch Community House qualify for the special rate of $500 per organisation. \nTo get the most out of the workshop your GM/CEO/person responsible for the day-to-day running of your organisation AND at least 80% of your board must attend. \nYou will join up to 8 other community organisations for the workshop\, with each organisation working through the activities and tasks as a team. At no stage will you be expected to share sensitive information with participants from other organisations. The workshop format enables great discussion and sharing of ideas and ways of working related to governance. \nTo register please contact Gillian on gillian@exult.co.nz or phone 07 571 8819. \nWant to know more? Fill out the form below. \n\n\n                \n                        Name\n                            \n                            \n                                                    \n                                                    First\n                                                \n                            \n                            \n                                                    \n                                                    Last\n                                                \n                            \n                        Phone*Email*\n                                \n                                    \n                                    Enter Email\n                                \n                                \n                                    \n                                    Confirm Email\n                                \n                                \n                            Contact Preference*PhoneEmail
URL:https://www.exult.co.nz/events/getting-your-board-onboard-christchurch/
LOCATION:Christchurch Community House\, 301 Tuam Street\, Christchurch\, 8011
CATEGORIES:Getting Your Board Onboard
END:VEVENT
BEGIN:VEVENT
DTSTART;TZID=Pacific/Auckland:20210327T093000
DTEND;TZID=Pacific/Auckland:20210327T160000
DTSTAMP:20260421T153932
CREATED:20210218T213317Z
LAST-MODIFIED:20210218T213317Z
UID:14229-1616837400-1616860800@www.exult.co.nz
SUMMARY:Getting Your Board Onboard - Tauranga
DESCRIPTION:If you want your organisation to work at its’ full potential\, you need a strong board/committee that truly understands their roles and responsibilities. However\, getting everyone on the same page can sometimes be a difficult task\, especially if you have a mix of new and long-standing trustees. \nThis workshop is designed to share models and ideas of what best practice non-profit Governance looks like. It is also vitally important to ensure there is great communication and clear understanding of the split of roles and responsibilities. \nThe workshop is usually $950 per organisation. In association with Bay Trust\, Bay of Plenty organisations qualify for the special rate of $400 per organisation. \nTo get the most out of the workshop your GM/CEO/person responsible for the day-to-day running of your organisation AND at least 80% of your board must attend. \nYou will join up to 8 other community organisations for the workshop\, with each organisation working through the activities and tasks as a team. At no stage will you be expected to share sensitive information with participants from other organisations. The workshop format enables great discussion and sharing of ideas and ways of working related to governance. \nTo register please contact Gillian on gillian@exult.co.nz or phone 07 571 8819. \nWant to know more? Fill out the form below. \n\n                \n                        Name\n                            \n                            \n                                                    \n                                                    First\n                                                \n                            \n                            \n                                                    \n                                                    Last\n                                                \n                            \n                        Phone*Email*\n                                \n                                    \n                                    Enter Email\n                                \n                                \n                                    \n                                    Confirm Email\n                                \n                                \n                            Contact Preference*PhoneEmail
URL:https://www.exult.co.nz/events/getting-your-board-onboard-tauranga/
LOCATION:Greerton Marist Rugby Club\, 90 Oropi Road\, Greerton\, Tauranga\, New Zealand
CATEGORIES:Getting Your Board Onboard
END:VEVENT
END:VCALENDAR