BEGIN:VCALENDAR
VERSION:2.0
PRODID:-//Exult - ECPv6.15.15//NONSGML v1.0//EN
CALSCALE:GREGORIAN
METHOD:PUBLISH
X-ORIGINAL-URL:https://www.exult.co.nz
X-WR-CALDESC:Events for Exult
REFRESH-INTERVAL;VALUE=DURATION:PT1H
X-Robots-Tag:noindex
X-PUBLISHED-TTL:PT1H
BEGIN:VTIMEZONE
TZID:Pacific/Auckland
BEGIN:STANDARD
TZOFFSETFROM:+1300
TZOFFSETTO:+1200
TZNAME:NZST
DTSTART:20180331T140000
END:STANDARD
BEGIN:DAYLIGHT
TZOFFSETFROM:+1200
TZOFFSETTO:+1300
TZNAME:NZDT
DTSTART:20180929T140000
END:DAYLIGHT
BEGIN:STANDARD
TZOFFSETFROM:+1300
TZOFFSETTO:+1200
TZNAME:NZST
DTSTART:20190406T140000
END:STANDARD
BEGIN:DAYLIGHT
TZOFFSETFROM:+1200
TZOFFSETTO:+1300
TZNAME:NZDT
DTSTART:20190928T140000
END:DAYLIGHT
BEGIN:STANDARD
TZOFFSETFROM:+1300
TZOFFSETTO:+1200
TZNAME:NZST
DTSTART:20200404T140000
END:STANDARD
BEGIN:DAYLIGHT
TZOFFSETFROM:+1200
TZOFFSETTO:+1300
TZNAME:NZDT
DTSTART:20200926T140000
END:DAYLIGHT
END:VTIMEZONE
BEGIN:VEVENT
DTSTART;TZID=Pacific/Auckland:20191126T173000
DTEND;TZID=Pacific/Auckland:20191126T200000
DTSTAMP:20260421T013929
CREATED:20190815T013639Z
LAST-MODIFIED:20191017T203725Z
UID:11314-1574789400-1574798400@www.exult.co.nz
SUMMARY:Getting Started with Governance - Auckland
DESCRIPTION:FULLY BOOKED – please email rosie@exult.co.nz to go on the waiting list \n$50 per person (Tonic Subscribers receive a 10% discount)
URL:https://www.exult.co.nz/events/getting-started-with-governance-auckland/
LOCATION:Community of St Luke\, 130 Remuera Road\, Auckland\, Auckland\, 1050\, New Zealand
CATEGORIES:Getting Started with Governance
ATTACH;FMTTYPE=image/png:https://www.exult.co.nz/wp-content/uploads/2018/06/Governance.png
END:VEVENT
END:VCALENDAR