BEGIN:VCALENDAR
VERSION:2.0
PRODID:-//Exult - ECPv6.15.15//NONSGML v1.0//EN
CALSCALE:GREGORIAN
METHOD:PUBLISH
X-WR-CALNAME:Exult
X-ORIGINAL-URL:https://www.exult.co.nz
X-WR-CALDESC:Events for Exult
REFRESH-INTERVAL;VALUE=DURATION:PT1H
X-Robots-Tag:noindex
X-PUBLISHED-TTL:PT1H
BEGIN:VTIMEZONE
TZID:Pacific/Auckland
BEGIN:STANDARD
TZOFFSETFROM:+1300
TZOFFSETTO:+1200
TZNAME:NZST
DTSTART:20190406T140000
END:STANDARD
BEGIN:DAYLIGHT
TZOFFSETFROM:+1200
TZOFFSETTO:+1300
TZNAME:NZDT
DTSTART:20190928T140000
END:DAYLIGHT
BEGIN:STANDARD
TZOFFSETFROM:+1300
TZOFFSETTO:+1200
TZNAME:NZST
DTSTART:20200404T140000
END:STANDARD
BEGIN:DAYLIGHT
TZOFFSETFROM:+1200
TZOFFSETTO:+1300
TZNAME:NZDT
DTSTART:20200926T140000
END:DAYLIGHT
BEGIN:STANDARD
TZOFFSETFROM:+1300
TZOFFSETTO:+1200
TZNAME:NZST
DTSTART:20210403T140000
END:STANDARD
BEGIN:DAYLIGHT
TZOFFSETFROM:+1200
TZOFFSETTO:+1300
TZNAME:NZDT
DTSTART:20210925T140000
END:DAYLIGHT
END:VTIMEZONE
BEGIN:VEVENT
DTSTART;TZID=Pacific/Auckland:20200227T093000
DTEND;TZID=Pacific/Auckland:20200227T160000
DTSTAMP:20260421T080945
CREATED:20190618T221049Z
LAST-MODIFIED:20200123T212920Z
UID:10836-1582795800-1582819200@www.exult.co.nz
SUMMARY:Facilitating Community-Led Change - Christchurch
DESCRIPTION:$79 per person (for non-profit and community groups) \n$220 per person (for local and regional government\, funders and private enterprise) \nWith thanks to Rata Foundation \nThis workshop is currently FULL. If you would like to go on the waiting list\, please email hello@exult.co.nz with your info. \nMore details
URL:https://www.exult.co.nz/events/facilitating-community-led-change-christchurch/
LOCATION:MacFarlane Park Centre\, 19A Acheson Avenue\, Shirley\, Christchurch\, Canterbury\, 8013
CATEGORIES:Inspiring Communities
END:VEVENT
END:VCALENDAR