BEGIN:VCALENDAR
VERSION:2.0
PRODID:-//Exult - ECPv6.15.15//NONSGML v1.0//EN
CALSCALE:GREGORIAN
METHOD:PUBLISH
X-WR-CALNAME:Exult
X-ORIGINAL-URL:https://www.exult.co.nz
X-WR-CALDESC:Events for Exult
REFRESH-INTERVAL;VALUE=DURATION:PT1H
X-Robots-Tag:noindex
X-PUBLISHED-TTL:PT1H
BEGIN:VTIMEZONE
TZID:Pacific/Auckland
BEGIN:STANDARD
TZOFFSETFROM:+1300
TZOFFSETTO:+1200
TZNAME:NZST
DTSTART:20190406T140000
END:STANDARD
BEGIN:DAYLIGHT
TZOFFSETFROM:+1200
TZOFFSETTO:+1300
TZNAME:NZDT
DTSTART:20190928T140000
END:DAYLIGHT
BEGIN:STANDARD
TZOFFSETFROM:+1300
TZOFFSETTO:+1200
TZNAME:NZST
DTSTART:20200404T140000
END:STANDARD
BEGIN:DAYLIGHT
TZOFFSETFROM:+1200
TZOFFSETTO:+1300
TZNAME:NZDT
DTSTART:20200926T140000
END:DAYLIGHT
BEGIN:STANDARD
TZOFFSETFROM:+1300
TZOFFSETTO:+1200
TZNAME:NZST
DTSTART:20210403T140000
END:STANDARD
BEGIN:DAYLIGHT
TZOFFSETFROM:+1200
TZOFFSETTO:+1300
TZNAME:NZDT
DTSTART:20210925T140000
END:DAYLIGHT
END:VTIMEZONE
BEGIN:VEVENT
DTSTART;TZID=Pacific/Auckland:20200402T090000
DTEND;TZID=Pacific/Auckland:20200402T130000
DTSTAMP:20260421T081451
CREATED:20200310T005458Z
LAST-MODIFIED:20200310T005557Z
UID:12375-1585818000-1585832400@www.exult.co.nz
SUMMARY:Sustainable Funding (1/2 Day) - Gisborne
DESCRIPTION:$50 per person \nMore details
URL:https://www.exult.co.nz/events/sustainable-funding-1-2-day-gisborne/
LOCATION:Waikanae Surf Lifesaving Club\, 280E Grey Street\, Gisborne\, New Zealand
CATEGORIES:Sustainable Funding
ATTACH;FMTTYPE=image/png:https://www.exult.co.nz/wp-content/uploads/2018/06/Sustainable_funding.png
END:VEVENT
END:VCALENDAR