BEGIN:VCALENDAR
VERSION:2.0
PRODID:-//Exult - ECPv6.15.15//NONSGML v1.0//EN
CALSCALE:GREGORIAN
METHOD:PUBLISH
X-WR-CALNAME:Exult
X-ORIGINAL-URL:https://www.exult.co.nz
X-WR-CALDESC:Events for Exult
REFRESH-INTERVAL;VALUE=DURATION:PT1H
X-Robots-Tag:noindex
X-PUBLISHED-TTL:PT1H
BEGIN:VTIMEZONE
TZID:Pacific/Auckland
BEGIN:STANDARD
TZOFFSETFROM:+1300
TZOFFSETTO:+1200
TZNAME:NZST
DTSTART:20190406T140000
END:STANDARD
BEGIN:DAYLIGHT
TZOFFSETFROM:+1200
TZOFFSETTO:+1300
TZNAME:NZDT
DTSTART:20190928T140000
END:DAYLIGHT
BEGIN:STANDARD
TZOFFSETFROM:+1300
TZOFFSETTO:+1200
TZNAME:NZST
DTSTART:20200404T140000
END:STANDARD
BEGIN:DAYLIGHT
TZOFFSETFROM:+1200
TZOFFSETTO:+1300
TZNAME:NZDT
DTSTART:20200926T140000
END:DAYLIGHT
BEGIN:STANDARD
TZOFFSETFROM:+1300
TZOFFSETTO:+1200
TZNAME:NZST
DTSTART:20210403T140000
END:STANDARD
BEGIN:DAYLIGHT
TZOFFSETFROM:+1200
TZOFFSETTO:+1300
TZNAME:NZDT
DTSTART:20210925T140000
END:DAYLIGHT
END:VTIMEZONE
BEGIN:VEVENT
DTSTART;TZID=Pacific/Auckland:20200429T093000
DTEND;TZID=Pacific/Auckland:20200429T123000
DTSTAMP:20260421T093459
CREATED:20200420T044802Z
LAST-MODIFIED:20200423T074551Z
UID:12634-1588152600-1588163400@www.exult.co.nz
SUMMARY:Sustainable Funding - ONLINE
DESCRIPTION:ONLINE Zoom Meetings \nPart 1 Wednesday 29th April 9.30am – 12.30pm\nPart 2 Monday 4th May 9.30am – 12.30pm \nMoving forward\, would you like your organisation to have reliable income\, but you are unsure where to start?  \nMany community and non-profit organisations have had funds coming into their organisation heavily impacted by Covid-19. Sustainable Funding is designed to explore seven potential income streams for community and non-profit organisations and look at opportunities for your organisation to tap into those funding streams to create a Sustainable Funding plan for the future. \nUsually a one-day workshop\, Sustainable Funding content will be covered during two online workshops.   \nAcross these online workshops you will discover: \n\nThe essential first step in creating a Sustainable Funding Plan. Have you laid the right foundations and why is it important that you do?\nThe 7 Key Income Streams for Non-Profit Organisations. Are you properly aware of your opportunities and are you making the most of them?\nThe difference between donations\, sponsorship and grants. Are you approaching each one in the right way\, and if not\, how can you do it differently?\nWhy traditional fundraising activities are still an important part of the mix and how to make them worth your while.\nHow you can get more people involved in your fundraising efforts. What is stopping people from helping out?\nHow to review what you are already doing\, and look for the opportunities for simple tweaks that can have a great impact.\nHow to develop a sustainable funding plan.\n\nYou will have the chance to explore fundraising through donations\, sponsorship\, grants\, contracts\, membership\, social enterprise and traditional fundraising events\, and what combination of those will work best in creating a sustainable plan for your organisation. It may be different than you think. \nUSUALLY $95 (for virtual attendance at BOTH workshops) \nLOCKDOWN SPECIAL $60 \nTonic Subscribers ONLY $50
URL:https://www.exult.co.nz/events/sustainable-funding-online/
LOCATION:ONLINE Zoom Meeting
CATEGORIES:Sustainable Funding
ATTACH;FMTTYPE=image/png:https://www.exult.co.nz/wp-content/uploads/2018/06/Sustainable_funding.png
END:VEVENT
END:VCALENDAR