BEGIN:VCALENDAR
VERSION:2.0
PRODID:-//Exult - ECPv6.15.15//NONSGML v1.0//EN
CALSCALE:GREGORIAN
METHOD:PUBLISH
X-WR-CALNAME:Exult
X-ORIGINAL-URL:https://www.exult.co.nz
X-WR-CALDESC:Events for Exult
REFRESH-INTERVAL;VALUE=DURATION:PT1H
X-Robots-Tag:noindex
X-PUBLISHED-TTL:PT1H
BEGIN:VTIMEZONE
TZID:Pacific/Auckland
BEGIN:STANDARD
TZOFFSETFROM:+1300
TZOFFSETTO:+1200
TZNAME:NZST
DTSTART:20190406T140000
END:STANDARD
BEGIN:DAYLIGHT
TZOFFSETFROM:+1200
TZOFFSETTO:+1300
TZNAME:NZDT
DTSTART:20190928T140000
END:DAYLIGHT
BEGIN:STANDARD
TZOFFSETFROM:+1300
TZOFFSETTO:+1200
TZNAME:NZST
DTSTART:20200404T140000
END:STANDARD
BEGIN:DAYLIGHT
TZOFFSETFROM:+1200
TZOFFSETTO:+1300
TZNAME:NZDT
DTSTART:20200926T140000
END:DAYLIGHT
BEGIN:STANDARD
TZOFFSETFROM:+1300
TZOFFSETTO:+1200
TZNAME:NZST
DTSTART:20210403T140000
END:STANDARD
BEGIN:DAYLIGHT
TZOFFSETFROM:+1200
TZOFFSETTO:+1300
TZNAME:NZDT
DTSTART:20210925T140000
END:DAYLIGHT
END:VTIMEZONE
BEGIN:VEVENT
DTSTART;TZID=Pacific/Auckland:20200430T093000
DTEND;TZID=Pacific/Auckland:20200430T123000
DTSTAMP:20260421T093556
CREATED:20200423T075519Z
LAST-MODIFIED:20200423T221819Z
UID:12794-1588239000-1588249800@www.exult.co.nz
SUMMARY:Sustainable Funding - ONLINE (2) sponsored by BayTrust
DESCRIPTION:ONLINE Zoom Meetings\nAvailable to Bay of Plenty organisations ONLY \nPart 1 Thursday 30th April 9.30am to 12:30pm\nPart 2 Thursday 7th May 9.30am to 12.30pm \nUsually a one-day workshop\, Sustainable Funding content will be covered during two online workshops.   \nMoving forward\, would you like your organisation to have reliable income\, but you are unsure where to start?  \nMany community and non-profit organisations have had funds coming into their organisation heavily impacted by Covid-19. Sustainable Funding is designed to explore seven potential income streams for community and non-profit organisations and look at opportunities for your organisation to tap into those funding streams to create a Sustainable Funding plan for the future. \nAcross these online workshops you will discover: \n\nThe essential first step in creating a Sustainable Funding Plan. Have you laid the right foundations and why is it important that you do?\nThe 7 Key Income Streams for Non-Profit Organisations. Are you properly aware of your opportunities and are you making the most of them?\nThe difference between donations\, sponsorship and grants. Are you approaching each one in the right way\, and if not\, how can you do it differently?\nWhy traditional fundraising activities are still an important part of the mix and how to make them worth your while.\nHow you can get more people involved in your fundraising efforts. What is stopping people from helping out?\nHow to review what you are already doing\, and look for the opportunities for simple tweaks that can have a great impact.\nHow to develop a sustainable funding plan.\n\nBayTrust are providing the opportunity for Bay of Plenty organisations to join us for Sustainable Funding for FREE.  \nDue to demand\, we can only offer two places per organisation. You are welcome to add additional people to the waiting list. They will be contacted if a spot becomes available. \nTo find out more or to secure your spot\, email gillian@exult.co.nz \n(no online booking available)
URL:https://www.exult.co.nz/events/sustainable-funding-2-online-sponsored-by-baytrust/
LOCATION:ONLINE Zoom Meeting
CATEGORIES:Sustainable Funding
ATTACH;FMTTYPE=image/png:https://www.exult.co.nz/wp-content/uploads/2018/06/Sustainable_funding.png
END:VEVENT
BEGIN:VEVENT
DTSTART;TZID=Pacific/Auckland:20200430T180000
DTEND;TZID=Pacific/Auckland:20200430T200000
DTSTAMP:20260421T093556
CREATED:20200420T045917Z
LAST-MODIFIED:20200423T221357Z
UID:12640-1588269600-1588276800@www.exult.co.nz
SUMMARY:Being a Successful Chair - ONLINE
DESCRIPTION:ONLINE Zoom Meeting \nThursday 30th April 6pm to 8pm \nA Zoom meeting ID will be emailed to you.  \nIn this workshop you will discover: \n\nThe roles and responsibilities of a Chair. What exactly have you signed up for?\nThe hallmarks of a great Chair. What skills\, attitudes and behaviours do great Chairs need to demonstrate? What makes a good Chair\, great?\nTools and strategies for doing your job well. What practices can you take on to ensure you are leading your Board well? How can you manage difficult people and tricky situations?\n\nJUST $30 per person \nMore details
URL:https://www.exult.co.nz/events/being-a-successful-chair-online/
LOCATION:ONLINE Zoom Meeting
CATEGORIES:Governance Express Series
ATTACH;FMTTYPE=image/png:https://www.exult.co.nz/wp-content/uploads/2018/06/Governance.png
END:VEVENT
END:VCALENDAR