BEGIN:VCALENDAR
VERSION:2.0
PRODID:-//Exult - ECPv6.15.15//NONSGML v1.0//EN
CALSCALE:GREGORIAN
METHOD:PUBLISH
X-WR-CALNAME:Exult
X-ORIGINAL-URL:https://www.exult.co.nz
X-WR-CALDESC:Events for Exult
REFRESH-INTERVAL;VALUE=DURATION:PT1H
X-Robots-Tag:noindex
X-PUBLISHED-TTL:PT1H
BEGIN:VTIMEZONE
TZID:Pacific/Auckland
BEGIN:STANDARD
TZOFFSETFROM:+1300
TZOFFSETTO:+1200
TZNAME:NZST
DTSTART:20190406T140000
END:STANDARD
BEGIN:DAYLIGHT
TZOFFSETFROM:+1200
TZOFFSETTO:+1300
TZNAME:NZDT
DTSTART:20190928T140000
END:DAYLIGHT
BEGIN:STANDARD
TZOFFSETFROM:+1300
TZOFFSETTO:+1200
TZNAME:NZST
DTSTART:20200404T140000
END:STANDARD
BEGIN:DAYLIGHT
TZOFFSETFROM:+1200
TZOFFSETTO:+1300
TZNAME:NZDT
DTSTART:20200926T140000
END:DAYLIGHT
BEGIN:STANDARD
TZOFFSETFROM:+1300
TZOFFSETTO:+1200
TZNAME:NZST
DTSTART:20210403T140000
END:STANDARD
BEGIN:DAYLIGHT
TZOFFSETFROM:+1200
TZOFFSETTO:+1300
TZNAME:NZDT
DTSTART:20210925T140000
END:DAYLIGHT
END:VTIMEZONE
BEGIN:VEVENT
DTSTART;TZID=Pacific/Auckland:20200603T093000
DTEND;TZID=Pacific/Auckland:20200603T123000
DTSTAMP:20260421T140721
CREATED:20200518T014352Z
LAST-MODIFIED:20200518T014352Z
UID:13177-1591176600-1591187400@www.exult.co.nz
SUMMARY:Growing Great Volunteer Teams - ONLINE for Kāpiti Community Organisations
DESCRIPTION:FREE – Thanks to support from Volunteer Kāpiti and Kāpiti Impact Trust Capable Sector Project \nONLINE Zoom Meetings\nAvailable to Kāpiti community organisations ONLY \nPart 1 Wednesday 3rd June 9.30am to 12:30pm\nPart 2 Wednesday 10th June 9.30am to 12.30pm \nUsually a one-day workshop\, Growing Great Volunteer Teams content will be covered during two online workshops. \nTo find out more or to secure your spot\, click here. \n(online booking available through Volunteer Kāpiti using the above link)
URL:https://www.exult.co.nz/events/growing-great-volunteer-teams-online-for-kapiti-community-organisations/
LOCATION:ONLINE Zoom Meeting
CATEGORIES:Growing Great Volunteer Teams
ATTACH;FMTTYPE=image/png:https://www.exult.co.nz/wp-content/uploads/2018/06/Growing_great_volunteer_teams.png
END:VEVENT
END:VCALENDAR