BEGIN:VCALENDAR
VERSION:2.0
PRODID:-//Exult - ECPv6.15.15//NONSGML v1.0//EN
CALSCALE:GREGORIAN
METHOD:PUBLISH
X-WR-CALNAME:Exult
X-ORIGINAL-URL:https://www.exult.co.nz
X-WR-CALDESC:Events for Exult
REFRESH-INTERVAL;VALUE=DURATION:PT1H
X-Robots-Tag:noindex
X-PUBLISHED-TTL:PT1H
BEGIN:VTIMEZONE
TZID:Pacific/Auckland
BEGIN:STANDARD
TZOFFSETFROM:+1300
TZOFFSETTO:+1200
TZNAME:NZST
DTSTART:20200404T140000
END:STANDARD
BEGIN:DAYLIGHT
TZOFFSETFROM:+1200
TZOFFSETTO:+1300
TZNAME:NZDT
DTSTART:20200926T140000
END:DAYLIGHT
BEGIN:STANDARD
TZOFFSETFROM:+1300
TZOFFSETTO:+1200
TZNAME:NZST
DTSTART:20210403T140000
END:STANDARD
BEGIN:DAYLIGHT
TZOFFSETFROM:+1200
TZOFFSETTO:+1300
TZNAME:NZDT
DTSTART:20210925T140000
END:DAYLIGHT
BEGIN:STANDARD
TZOFFSETFROM:+1300
TZOFFSETTO:+1200
TZNAME:NZST
DTSTART:20220402T140000
END:STANDARD
BEGIN:DAYLIGHT
TZOFFSETFROM:+1200
TZOFFSETTO:+1300
TZNAME:NZDT
DTSTART:20220924T140000
END:DAYLIGHT
END:VTIMEZONE
BEGIN:VEVENT
DTSTART;TZID=Pacific/Auckland:20210612T093000
DTEND;TZID=Pacific/Auckland:20210612T160000
DTSTAMP:20260422T032104
CREATED:20210418T174237Z
LAST-MODIFIED:20210418T174237Z
UID:14590-1623490200-1623513600@www.exult.co.nz
SUMMARY:Getting Your Board Onboard: A Practical Guide to Governance - Kāpiti
DESCRIPTION:Join us for this 1-day workshop provided by the Capable Sector Project\, a collaboration between Volunteer Kāpiti and Kāpiti Impact Trust\, supported by Kāpiti Coast District Council (www.ourkapiticommunity.org). \nTo get the most out of the workshop your GM/CEO/person responsible for the day-to-day running of your organisation AND at least 80% of your board must attend. \nCost: $200 per organisation for Kāpiti Community Organisations. Thanks to a $300 subsidy provided by the Capable Sector Project. \nTo register:: Email gillian@exult.co.nz\nMore Info: Phone 07 571 8819 or visit Volunteer Kāpiti or Getting Your Board Onboard \n 
URL:https://www.exult.co.nz/events/getting-your-board-onboard-a-practical-guide-to-governance-kapiti/
LOCATION:Kāpiti Impact Hub\, 6 Tongariro Street\, Paraparaumu
CATEGORIES:Getting Your Board Onboard
END:VEVENT
END:VCALENDAR