BEGIN:VCALENDAR
VERSION:2.0
PRODID:-//Exult - ECPv6.15.15//NONSGML v1.0//EN
CALSCALE:GREGORIAN
METHOD:PUBLISH
X-ORIGINAL-URL:https://www.exult.co.nz
X-WR-CALDESC:Events for Exult
REFRESH-INTERVAL;VALUE=DURATION:PT1H
X-Robots-Tag:noindex
X-PUBLISHED-TTL:PT1H
BEGIN:VTIMEZONE
TZID:Pacific/Auckland
BEGIN:STANDARD
TZOFFSETFROM:+1300
TZOFFSETTO:+1200
TZNAME:NZST
DTSTART:20200404T140000
END:STANDARD
BEGIN:DAYLIGHT
TZOFFSETFROM:+1200
TZOFFSETTO:+1300
TZNAME:NZDT
DTSTART:20200926T140000
END:DAYLIGHT
BEGIN:STANDARD
TZOFFSETFROM:+1300
TZOFFSETTO:+1200
TZNAME:NZST
DTSTART:20210403T140000
END:STANDARD
BEGIN:DAYLIGHT
TZOFFSETFROM:+1200
TZOFFSETTO:+1300
TZNAME:NZDT
DTSTART:20210925T140000
END:DAYLIGHT
BEGIN:STANDARD
TZOFFSETFROM:+1300
TZOFFSETTO:+1200
TZNAME:NZST
DTSTART:20220402T140000
END:STANDARD
BEGIN:DAYLIGHT
TZOFFSETFROM:+1200
TZOFFSETTO:+1300
TZNAME:NZDT
DTSTART:20220924T140000
END:DAYLIGHT
END:VTIMEZONE
BEGIN:VEVENT
DTSTART;TZID=Pacific/Auckland:20210923T093000
DTEND;TZID=Pacific/Auckland:20210923T123000
DTSTAMP:20260422T171840
CREATED:20210616T233954Z
LAST-MODIFIED:20210622T093827Z
UID:14678-1632389400-1632400200@www.exult.co.nz
SUMMARY:Secret of Sponsorship Workshop ONLINE - for Southland & Otago organisations (23 Sept & 30 Sept)
DESCRIPTION:Our Secret of Sponsorship Workshop is designed for schools\, sports clubs\, event organisers\, and non-profit organisations. It explores the idea of developing business sponsorship for your organisation. \nThis workshop is brought to you by the teams at Volunteer South & Sport Otago and is for organisations based in Southland or Otago. \nPart 1: Thursday 23 September\, 9:30am to 12:30pm \nPart 2: Thursday 30 September\, 9:30am to 12:30pm \nJust $30 + GST per person \nClick here to register. \n 
URL:https://www.exult.co.nz/events/secret-of-sponsorship-online-workshop-for-southland-otago-organisations/
LOCATION:ONLINE Zoom Meeting
CATEGORIES:Secret of Sponsorship
END:VEVENT
END:VCALENDAR