BEGIN:VCALENDAR
VERSION:2.0
PRODID:-//Exult - ECPv6.15.15//NONSGML v1.0//EN
CALSCALE:GREGORIAN
METHOD:PUBLISH
X-WR-CALNAME:Exult
X-ORIGINAL-URL:https://www.exult.co.nz
X-WR-CALDESC:Events for Exult
REFRESH-INTERVAL;VALUE=DURATION:PT1H
X-Robots-Tag:noindex
X-PUBLISHED-TTL:PT1H
BEGIN:VTIMEZONE
TZID:Pacific/Auckland
BEGIN:STANDARD
TZOFFSETFROM:+1300
TZOFFSETTO:+1200
TZNAME:NZST
DTSTART:20230401T140000
END:STANDARD
BEGIN:DAYLIGHT
TZOFFSETFROM:+1200
TZOFFSETTO:+1300
TZNAME:NZDT
DTSTART:20230923T140000
END:DAYLIGHT
BEGIN:STANDARD
TZOFFSETFROM:+1300
TZOFFSETTO:+1200
TZNAME:NZST
DTSTART:20240406T140000
END:STANDARD
BEGIN:DAYLIGHT
TZOFFSETFROM:+1200
TZOFFSETTO:+1300
TZNAME:NZDT
DTSTART:20240928T140000
END:DAYLIGHT
BEGIN:STANDARD
TZOFFSETFROM:+1300
TZOFFSETTO:+1200
TZNAME:NZST
DTSTART:20250405T140000
END:STANDARD
BEGIN:DAYLIGHT
TZOFFSETFROM:+1200
TZOFFSETTO:+1300
TZNAME:NZDT
DTSTART:20250927T140000
END:DAYLIGHT
END:VTIMEZONE
BEGIN:VEVENT
DTSTART;TZID=Pacific/Auckland:20240926T093000
DTEND;TZID=Pacific/Auckland:20240926T123000
DTSTAMP:20260425T142823
CREATED:20240904T000041Z
LAST-MODIFIED:20240904T003435Z
UID:18489-1727343000-1727353800@www.exult.co.nz
SUMMARY:Making Donations a Key Income Stream  - Tauranga
DESCRIPTION:Date: Thursday\, 26 September 2024\nTime: 9.30am-12.30pm\nVenue: Tauranga\nCost: $25 per person for eligible Bay of Plenty organisation (thanks to a subsidy from BayTrust) Click here to check your eligibility 
URL:https://www.exult.co.nz/events/diversifying-income-streams-exploring-the-donations-opportunity-tauranga/
CATEGORIES:Making Donations a Key Income Stream,Workshops
END:VEVENT
END:VCALENDAR