BEGIN:VCALENDAR
VERSION:2.0
PRODID:-//Exult - ECPv6.15.15//NONSGML v1.0//EN
CALSCALE:GREGORIAN
METHOD:PUBLISH
X-WR-CALNAME:Exult
X-ORIGINAL-URL:https://www.exult.co.nz
X-WR-CALDESC:Events for Exult
REFRESH-INTERVAL;VALUE=DURATION:PT1H
X-Robots-Tag:noindex
X-PUBLISHED-TTL:PT1H
BEGIN:VTIMEZONE
TZID:Pacific/Auckland
BEGIN:STANDARD
TZOFFSETFROM:+1300
TZOFFSETTO:+1200
TZNAME:NZST
DTSTART:20240406T140000
END:STANDARD
BEGIN:DAYLIGHT
TZOFFSETFROM:+1200
TZOFFSETTO:+1300
TZNAME:NZDT
DTSTART:20240928T140000
END:DAYLIGHT
BEGIN:STANDARD
TZOFFSETFROM:+1300
TZOFFSETTO:+1200
TZNAME:NZST
DTSTART:20250405T140000
END:STANDARD
BEGIN:DAYLIGHT
TZOFFSETFROM:+1200
TZOFFSETTO:+1300
TZNAME:NZDT
DTSTART:20250927T140000
END:DAYLIGHT
BEGIN:STANDARD
TZOFFSETFROM:+1300
TZOFFSETTO:+1200
TZNAME:NZST
DTSTART:20260404T140000
END:STANDARD
BEGIN:DAYLIGHT
TZOFFSETFROM:+1200
TZOFFSETTO:+1300
TZNAME:NZDT
DTSTART:20260926T140000
END:DAYLIGHT
END:VTIMEZONE
BEGIN:VEVENT
DTSTART;TZID=Pacific/Auckland:20250218T093000
DTEND;TZID=Pacific/Auckland:20250220T163000
DTSTAMP:20260422T100311
CREATED:20240908T222946Z
LAST-MODIFIED:20240910T233407Z
UID:18525-1739871000-1740069000@www.exult.co.nz
SUMMARY:People Leaders Programme - Tauranga
DESCRIPTION:People Leaders Programme – 3 Day Workshop \n\nDate: Tuesday 18th February – Thursday 20th February 2025\nTime: 9.30am-4pm\nLocation: Tauranga\n\nPricing \n\nStandard ticket: $1950+GST ($2242.50 (inclusive)\nCharitable Trusts $1170+GST ($1345.50 inclusive)\n\n 
URL:https://www.exult.co.nz/events/people-leaders-programme-tauranga/
LOCATION:Tauranga
CATEGORIES:REAL People Management Programme,Workshops
END:VEVENT
END:VCALENDAR