BEGIN:VCALENDAR
VERSION:2.0
PRODID:-//Exult - ECPv6.15.15//NONSGML v1.0//EN
CALSCALE:GREGORIAN
METHOD:PUBLISH
X-WR-CALNAME:Exult
X-ORIGINAL-URL:https://www.exult.co.nz
X-WR-CALDESC:Events for Exult
REFRESH-INTERVAL;VALUE=DURATION:PT1H
X-Robots-Tag:noindex
X-PUBLISHED-TTL:PT1H
BEGIN:VTIMEZONE
TZID:Pacific/Auckland
BEGIN:STANDARD
TZOFFSETFROM:+1300
TZOFFSETTO:+1200
TZNAME:NZST
DTSTART:20240406T140000
END:STANDARD
BEGIN:DAYLIGHT
TZOFFSETFROM:+1200
TZOFFSETTO:+1300
TZNAME:NZDT
DTSTART:20240928T140000
END:DAYLIGHT
BEGIN:STANDARD
TZOFFSETFROM:+1300
TZOFFSETTO:+1200
TZNAME:NZST
DTSTART:20250405T140000
END:STANDARD
BEGIN:DAYLIGHT
TZOFFSETFROM:+1200
TZOFFSETTO:+1300
TZNAME:NZDT
DTSTART:20250927T140000
END:DAYLIGHT
BEGIN:STANDARD
TZOFFSETFROM:+1300
TZOFFSETTO:+1200
TZNAME:NZST
DTSTART:20260404T140000
END:STANDARD
BEGIN:DAYLIGHT
TZOFFSETFROM:+1200
TZOFFSETTO:+1300
TZNAME:NZDT
DTSTART:20260926T140000
END:DAYLIGHT
END:VTIMEZONE
BEGIN:VEVENT
DTSTART;TZID=Pacific/Auckland:20251014T093000
DTEND;TZID=Pacific/Auckland:20251014T123000
DTSTAMP:20260425T091539
CREATED:20250226T222640Z
LAST-MODIFIED:20250623T212259Z
UID:19336-1760434200-1760445000@www.exult.co.nz
SUMMARY:Sustainable Funding Workshop - Online (October)
DESCRIPTION:Part 1: Tuesday 14 October 2025 2025\, 9.30am-12.30pm\nPart 2: Tuesday 21 October 2025\, 9.30am-12.30pm\nHeld in two parts via Zoom.\nYour registration covers both Part 1 and Part 2. We will send you an email 7 days before the workshop outlining logistic details (including Zoom details for online workshops) Registration options per person (inc GST):\n\nTonic Member – $85\nStandard – $95\nBayTrust subsidised registration – $25 (for eligible BOP organisations\, check your eligibility here)\n\nIf one of your colleagues would like to join you for this workshop select 2 (or more) tickets below and include their details as you complete the booking process. \nBooking and refund terms and conditions \n\nPayment must be received before the workshop date.\nLogistic details for the workshop (including Zoom details for online workshops) will be sent 7 days before the workshop\, as long as payment has been received.\nRegistration fees are non-refundable.\nRegistration fees are transferable to another participant or can be held as a credit to be used within 1 year.\nIf the workshop is cancelled by Exult\, an alternative date will be offered where possible\, or a full refund is offered.\nExult reserves the right to alter the programme course details or facilitator.\n\n\n\n\n 
URL:https://www.exult.co.nz/events/sustainable-funding-workshop-online-october/
LOCATION:ONLINE Zoom Meeting
CATEGORIES:Online Workshops,Sustainable Funding
END:VEVENT
BEGIN:VEVENT
DTSTART;TZID=Pacific/Auckland:20251015T093000
DTEND;TZID=Pacific/Auckland:20251015T123000
DTSTAMP:20260425T091539
CREATED:20250812T012642Z
LAST-MODIFIED:20250820T003700Z
UID:19753-1760520600-1760531400@www.exult.co.nz
SUMMARY:Growing Great Volunteer Teams Workshop - Taranaki SOLD OUT
DESCRIPTION:Growing Great Volunteer Teams Workshop – New Plymouth – SOLD OUT \nThis workshop is now fully booked. Please register your interest HERE if you’d like to join the wait list and we’ll let you know should a spot become available. \n\nFREE for Taranaki organisations\, thanks to Toi Foundation\nDate: Wednesday 15 October 2025\, 9.30am-12.30pm\nVenue: Toi Foundation\, 121 Gill Street\, New Plymouth\nLimited to two people per organisation.\n\n 
URL:https://www.exult.co.nz/events/growing-great-volunteer-teams-workshop-free-for-taranaki-organisations-thanks-to-toi-foundation/
LOCATION:Toi Foundation\, 121 Gill Street\, New Plymouth\, New Zealand
CATEGORIES:Growing Great Volunteer Teams
END:VEVENT
BEGIN:VEVENT
DTSTART;TZID=Pacific/Auckland:20251016T093000
DTEND;TZID=Pacific/Auckland:20251016T160000
DTSTAMP:20260425T091539
CREATED:20250812T011557Z
LAST-MODIFIED:20250818T005947Z
UID:19747-1760607000-1760630400@www.exult.co.nz
SUMMARY:Sustainable Funding Workshop - Taranaki SOLD OUT
DESCRIPTION:Sustainable Funding Workshop – New Plymouth – SOLD OUT \nThis workshop is now fully booked. Please register your interest HERE if you’d like to join the wait list and we’ll let you know if a spot becomes available \n\nFREE for Taranaki organisations\, thanks to Toi Foundation\nDate: Thursday 16 October 2025\, 9.30am-4pm\, Venue: Toi Foundation\, 121 Gill Street\, New Plymouth
URL:https://www.exult.co.nz/events/sustainable-funding-workshop-new-plymouth/
LOCATION:Toi Foundation\, 121 Gill Street\, New Plymouth\, New Zealand
CATEGORIES:Sustainable Funding
END:VEVENT
END:VCALENDAR