BEGIN:VCALENDAR
VERSION:2.0
PRODID:-//Exult - ECPv6.15.15//NONSGML v1.0//EN
CALSCALE:GREGORIAN
METHOD:PUBLISH
X-WR-CALNAME:Exult
X-ORIGINAL-URL:https://www.exult.co.nz
X-WR-CALDESC:Events for Exult
REFRESH-INTERVAL;VALUE=DURATION:PT1H
X-Robots-Tag:noindex
X-PUBLISHED-TTL:PT1H
BEGIN:VTIMEZONE
TZID:Pacific/Auckland
BEGIN:STANDARD
TZOFFSETFROM:+1300
TZOFFSETTO:+1200
TZNAME:NZST
DTSTART:20250405T140000
END:STANDARD
BEGIN:DAYLIGHT
TZOFFSETFROM:+1200
TZOFFSETTO:+1300
TZNAME:NZDT
DTSTART:20250927T140000
END:DAYLIGHT
BEGIN:STANDARD
TZOFFSETFROM:+1300
TZOFFSETTO:+1200
TZNAME:NZST
DTSTART:20260404T140000
END:STANDARD
BEGIN:DAYLIGHT
TZOFFSETFROM:+1200
TZOFFSETTO:+1300
TZNAME:NZDT
DTSTART:20260926T140000
END:DAYLIGHT
BEGIN:STANDARD
TZOFFSETFROM:+1300
TZOFFSETTO:+1200
TZNAME:NZST
DTSTART:20270403T140000
END:STANDARD
BEGIN:DAYLIGHT
TZOFFSETFROM:+1200
TZOFFSETTO:+1300
TZNAME:NZDT
DTSTART:20270925T140000
END:DAYLIGHT
END:VTIMEZONE
BEGIN:VEVENT
DTSTART;TZID=Pacific/Auckland:20260210T093000
DTEND;TZID=Pacific/Auckland:20260210T123000
DTSTAMP:20260423T021551
CREATED:20251124T025406Z
LAST-MODIFIED:20260119T232222Z
UID:19912-1770715800-1770726600@www.exult.co.nz
SUMMARY:Sustainable Funding Workshop - Online (February)
DESCRIPTION:Part 1: Tuesday 10 February 2026\, 9.30am-12.30pm\nPart 2: Tuesday 17 February 2026\, 9.30am-12.30pm\nHeld in two parts via Zoom.\nYour registration covers both Part 1 and Part 2. We will send you an email 7 days before the workshop outlining logistic details (including Zoom details for online workshops) \n\nPricing: (inc GST): Standard ticket: $95\, Tonic Member ticket $85\, BayTrust subsidised registration $25 (for eligible BOP organisations\, check your eligibility here) \nBooking and refund terms and conditions \n\nPayment must be received before the workshop date.\nLogistic details for the workshop (including Zoom details for online workshops) will be sent 7 days before the workshop\, as long as payment has been received.\nRegistration fees are non-refundable.\nRegistration fees are transferable to another participant or can be held as a credit to be used within 1 year.\nIf the workshop is cancelled by Exult\, an alternative date will be offered where possible\, or a full refund is offered.\nExult reserves the right to alter the programme course details or facilitator.\n\n 
URL:https://www.exult.co.nz/events/sustainable-funding-workshop-online-february/
LOCATION:ONLINE Zoom Meeting
CATEGORIES:Online Workshops,Sustainable Funding
END:VEVENT
BEGIN:VEVENT
DTSTART;TZID=Pacific/Auckland:20260218T093000
DTEND;TZID=Pacific/Auckland:20260218T133000
DTSTAMP:20260423T021551
CREATED:20251124T023928Z
LAST-MODIFIED:20251217T224720Z
UID:19894-1771407000-1771421400@www.exult.co.nz
SUMMARY:Sustainable Funding Workshop - Rotorua
DESCRIPTION:Date – Wednesday 18 February 2026\, 9.30am-1.30pm\nVenue – Linton Park Community Centre\, 16 Kamahi Place\, Pukehangi\, Rotorua (no door sales sorry)\nPricing: Standard ticket $85\, Tonic Member ticket $75\, BayTrust subsidised ticket $25 (for eligible BOP organisations\, check your eligibility here)\n\nPlease note our Booking and refund terms and conditions \n\nPayment must be received before the workshop date.\nLogistic details for the workshop will be sent 7 days before the workshop\, as long as payment has been received.\nRegistration fees are non-refundable.\nRegistration fees are transferable to another participant or can be held as a credit to be used within 1 year.\nIf the workshop is cancelled by Exult\, an alternative date will be offered where possible\, or a full refund is offered.\nExult reserves the right to alter the programme course details or facilitator.
URL:https://www.exult.co.nz/events/sustainable-funding-workshop-rotorua-3/
LOCATION:Linton Park Community Centre\, 16 Kamahi Place\, Pukehangi\, Rotorua\, Bay of Plenty\, 3015\, New Zealand
CATEGORIES:Sustainable Funding
END:VEVENT
BEGIN:VEVENT
DTSTART;TZID=Pacific/Auckland:20260219T093000
DTEND;TZID=Pacific/Auckland:20260219T133000
DTSTAMP:20260423T021551
CREATED:20251124T024250Z
LAST-MODIFIED:20260217T220600Z
UID:19899-1771493400-1771507800@www.exult.co.nz
SUMMARY:Sustainable Funding Workshop - Taupo (Thanks to Waiora Community House and BayTrust)
DESCRIPTION:Thanks to Waiora Community House and BayTrust \n\nDate – Thursday 19 February 2026\, 9.30am-1.30pm\nVenue – Waiora Community Centre\, 100 Kaimanawa Street\, Taupo 3330 (Sorry no door sales)\nPricing: Standard ticket $85\, Tonic Member ticket $75\, Taupo Social Services Network ticket $25\, BayTrust subsidised ticket $25 (for eligible BOP organisations\, check your eligibility here)\n\nPlease note our Booking and refund terms and conditions \n\nPayment must be received before the workshop date.\nLogistic details for the workshop will be sent 7 days before the workshop\, as long as payment has been received.\nRegistration fees are non-refundable.\nRegistration fees are transferable to another participant or can be held as a credit to be used within 1 year.\nIf the workshop is cancelled by Exult\, an alternative date will be offered where possible\, or a full refund is offered.\nExult reserves the right to alter the programme course details or facilitator.
URL:https://www.exult.co.nz/events/sustainable-funding-workshop-taupo-3/
LOCATION:Waiora Community Centre\, 100 Kaimanawa Street\, Taupo\, 3330\, New Zealand
CATEGORIES:Sustainable Funding
END:VEVENT
BEGIN:VEVENT
DTSTART;TZID=Pacific/Auckland:20260225T093000
DTEND;TZID=Pacific/Auckland:20260225T123000
DTSTAMP:20260423T021551
CREATED:20251130T213951Z
LAST-MODIFIED:20260222T211316Z
UID:20017-1772011800-1772022600@www.exult.co.nz
SUMMARY:Sustainable Funding Workshop - Hamilton
DESCRIPTION:Date: Wednesday 25 February 2026\, 9.30am-12.30pm\nVenue: Eastlink Badminton Stadium\, Hamilton East (no door sales sorry)\nPricing: $50 per person (including GST)\n\nPlease note our Booking and refund terms and conditions \n\nPayment must be received before the workshop date.\nLogistic details for the workshop will be sent 7 days before the workshop\, as long as payment has been received.\nRegistration fees are non-refundable.\nRegistration fees are transferable to another participant or can be held as a credit to be used within 1 year.\nIf the workshop is cancelled by Exult\, an alternative date will be offered where possible\, or a full refund is offered.\nExult reserves the right to alter the programme course details or facilitator.
URL:https://www.exult.co.nz/events/sustainable-funding-workshop-hamilton26/
LOCATION:Eastlink Badminton Stadium\, 60 Old Farm Road\, Hamilton East\, Waikato\, New Zealand
CATEGORIES:Sustainable Funding
END:VEVENT
BEGIN:VEVENT
DTSTART;TZID=Pacific/Auckland:20260226T093000
DTEND;TZID=Pacific/Auckland:20260226T133000
DTSTAMP:20260423T021551
CREATED:20251124T024611Z
LAST-MODIFIED:20260224T213412Z
UID:19904-1772098200-1772112600@www.exult.co.nz
SUMMARY:Sustainable Funding Workshop - Whakatane
DESCRIPTION:Date: Thursday 26 February 2026\, 9.30am-1.30pm\nVenue – EastBay REAP\, 21 Pyne Street\, Whakatāne 3120 (no door sales sorry)\nPricing: Standard ticket $85\, Tonic Member ticket $75\, BayTrust subsidised ticket $25 (for eligible BOP organisations\, check your eligibility here)\n\nPlease note our Booking and refund terms and conditions \n\nPayment must be received before the workshop date.\nLogistic details for the workshop will be sent 7 days before the workshop\, as long as payment has been received.\nRegistration fees are non-refundable.\nRegistration fees are transferable to another participant or can be held as a credit to be used within 1 year.\nIf the workshop is cancelled by Exult\, an alternative date will be offered where possible\, or a full refund is offered.\nExult reserves the right to alter the programme course details or facilitator.
URL:https://www.exult.co.nz/events/sustainable-funding-workshop-whakatane-2/
LOCATION:East Bay REAP\, Whakatane\, 21 Pyne Street\, Whakatane\, New Zealand
CATEGORIES:Sustainable Funding
END:VEVENT
BEGIN:VEVENT
DTSTART;TZID=Pacific/Auckland:20260228T093000
DTEND;TZID=Pacific/Auckland:20260228T160000
DTSTAMP:20260423T021551
CREATED:20260115T212006Z
LAST-MODIFIED:20260212T200541Z
UID:20087-1772271000-1772294400@www.exult.co.nz
SUMMARY:Getting Your Board Onboard - Gisborne\, thanks to Gisborne Volunteer Centre FULLY BOOKED
DESCRIPTION:Getting Your Board Onboard Workshop – thanks to Gisborne Volunteer Centre  \nFULLY BOOKED – Please email gillian@exult.co.nz to express your interest for the next workshop \n\nDate: Saturday 28 February 2026\, 9.30am-4pm\nVenue: Gisborne – more details on booking\nCost: Thanks to Gisborne Volunteer Centre\, eligible Gisborne Tairawhiti organisations can attend for the special rate of $79 (incl GST) per organisation.\nWho can attend? To get the most out of the workshop we recommend your GM/CEO/person responsible for the day-to-day running of your organisation AND at least 80% of your board must attend.\nRefreshments: A light working lunch and refreshments will be provided. Please let us know if you or your team have any special dietary requirements.\n\nYou will join up to 7 other community organisations for the workshop\, with each organisation working through the activities and tasks as a team. At no stage will you be expected to share sensitive information with participants from other organisations. The workshop format enables great discussion and sharing of ideas and ways of working related to governance.
URL:https://www.exult.co.nz/events/getting-your-board-onboard-gisborne26/
LOCATION:Bay of Plenty
CATEGORIES:Getting Your Board Onboard
END:VEVENT
END:VCALENDAR