BEGIN:VCALENDAR
VERSION:2.0
PRODID:-//Exult - ECPv6.15.15//NONSGML v1.0//EN
CALSCALE:GREGORIAN
METHOD:PUBLISH
X-ORIGINAL-URL:https://www.exult.co.nz
X-WR-CALDESC:Events for Exult
REFRESH-INTERVAL;VALUE=DURATION:PT1H
X-Robots-Tag:noindex
X-PUBLISHED-TTL:PT1H
BEGIN:VTIMEZONE
TZID:Pacific/Auckland
BEGIN:STANDARD
TZOFFSETFROM:+1300
TZOFFSETTO:+1200
TZNAME:NZST
DTSTART:20250405T140000
END:STANDARD
BEGIN:DAYLIGHT
TZOFFSETFROM:+1200
TZOFFSETTO:+1300
TZNAME:NZDT
DTSTART:20250927T140000
END:DAYLIGHT
BEGIN:STANDARD
TZOFFSETFROM:+1300
TZOFFSETTO:+1200
TZNAME:NZST
DTSTART:20260404T140000
END:STANDARD
BEGIN:DAYLIGHT
TZOFFSETFROM:+1200
TZOFFSETTO:+1300
TZNAME:NZDT
DTSTART:20260926T140000
END:DAYLIGHT
BEGIN:STANDARD
TZOFFSETFROM:+1300
TZOFFSETTO:+1200
TZNAME:NZST
DTSTART:20270403T140000
END:STANDARD
BEGIN:DAYLIGHT
TZOFFSETFROM:+1200
TZOFFSETTO:+1300
TZNAME:NZDT
DTSTART:20270925T140000
END:DAYLIGHT
END:VTIMEZONE
BEGIN:VEVENT
DTSTART;TZID=Pacific/Auckland:20260316T123000
DTEND;TZID=Pacific/Auckland:20260316T143000
DTSTAMP:20260421T053121
CREATED:20251124T211856Z
LAST-MODIFIED:20260225T200321Z
UID:19976-1773664200-1773671400@www.exult.co.nz
SUMMARY:Secret of Sponsorship Workshop - Online (March)
DESCRIPTION:Part 1: Monday 16 March 2026\,12.30pm-2.30pm\nPart 2: Tuesday 24 March 2026\,12.30pm-2.30pm\nHeld in two parts via Zoom.\nYour registration covers both Part 1 and Part 2. We will send you an email 7 days before the workshop outlining logistic details (including Zoom details for online workshops)\n\nPricing per person (inc GST): \n\nStandard – $85\nTonic Member – $75\nBayTrust subsidised registration – $25 (for eligible BOP organisations\, check your eligibility here)\n\nBooking and refund terms and conditions \n\nPayment must be received before the workshop date.\nLogistic details for the workshop (including Zoom details for online workshops) will be sent 7 days before the workshop\, as long as payment has been received.\nRegistration fees are non-refundable.\nRegistration fees are transferable to another participant or can be held as a credit to be used within 1 year.\nIf the workshop is cancelled by Exult\, an alternative date will be offered where possible\, or a full refund is offered.\nExult reserves the right to alter the programme course details or facilitator.\n\n 
URL:https://www.exult.co.nz/events/secret-of-sponsorship-workshop-online-march/
LOCATION:ONLINE Zoom Meeting
CATEGORIES:Online Workshops,Secret of Sponsorship
END:VEVENT
BEGIN:VEVENT
DTSTART;TZID=Pacific/Auckland:20260318T093000
DTEND;TZID=Pacific/Auckland:20260318T133000
DTSTAMP:20260421T053121
CREATED:20260209T234328Z
LAST-MODIFIED:20260209T234328Z
UID:20191-1773826200-1773840600@www.exult.co.nz
SUMMARY:Growing Great Volunteer Teams - Rotorua
DESCRIPTION:In partnership with BayTrust and Volunteer Services \n\nDate: Wednesday 18 March 2026\nTime: 9.30am-1.30pm\nVenue: Linton Park Community Centre\, Rotorua\n\nTickets pricing (including GST) \n\n$25 BayTrust subsidised Ticket for eligible BOP organisations (check your eligibility)\n$85 for Tonic Member Ticket\n$95 Standard Ticket\n\nPlease note our Booking and Refund Terms and Conditions  \n\nPayment must be received before the workshop date.\nLogistic details for the workshop (including Zoom details for online workshops) will be sent 7 days before the workshop\, as long as payment has been received.\nRegistration fees are non-refundable.\nRegistration fees are transferable to another participant or can be held as a credit to be used within 1 year.\nIf the workshop is cancelled by Exult\, an alternative date will be offered where possible\, or a full refund is offered.\nExult reserves the right to alter the programme course details or facilitator.\n\n 
URL:https://www.exult.co.nz/events/growing-great-volunteer-teams-rotorua-2/
LOCATION:Linton Park Community Centre\, 16 Kamahi Place\, Pukehangi\, Rotorua\, Bay of Plenty\, 3015\, New Zealand
CATEGORIES:Growing Great Volunteer Teams
END:VEVENT
BEGIN:VEVENT
DTSTART;TZID=Pacific/Auckland:20260331T093000
DTEND;TZID=Pacific/Auckland:20260331T123000
DTSTAMP:20260421T053121
CREATED:20251124T064544Z
LAST-MODIFIED:20251124T064544Z
UID:19961-1774949400-1774960200@www.exult.co.nz
SUMMARY:Making Donations a Key Income Stream - Online (March)
DESCRIPTION:Date: Tuesday 31 March 2026\, 9.30am-12.30pm\nHeld online via Zoom (we’ll email you the link one week prior)\n\nPricing: (inc GST): Standard ticket $45\, Tonic Member $40\, BayTrust subsidised registration $25 (for eligible BOP organisations\, check your eligibility here) \nIf one of your colleagues would like to join you for this workshop select 2 (or more) tickets below and include their details as you complete the booking process. \nBooking and refund terms and conditions \n\nPayment must be received before the workshop date.\nLogistic details for the workshop (including Zoom details for online workshops) will be sent 7 days before the workshop\, as long as payment has been received.\nRegistration fees are non-refundable.\nRegistration fees are transferable to another participant or can be held as a credit to be used within 1 year.\nIf the workshop is cancelled by Exult\, an alternative date will be offered where possible\, or a full refund is offered.\nExult reserves the right to alter the programme course details or facilitator.
URL:https://www.exult.co.nz/events/making-donations-a-key-income-stream-online-march/
LOCATION:ONLINE Zoom Meeting
CATEGORIES:Making Donations a Key Income Stream,Online Workshops
END:VEVENT
END:VCALENDAR