BEGIN:VCALENDAR
VERSION:2.0
PRODID:-//Exult - ECPv6.15.15//NONSGML v1.0//EN
CALSCALE:GREGORIAN
METHOD:PUBLISH
X-ORIGINAL-URL:https://www.exult.co.nz
X-WR-CALDESC:Events for Exult
REFRESH-INTERVAL;VALUE=DURATION:PT1H
X-Robots-Tag:noindex
X-PUBLISHED-TTL:PT1H
BEGIN:VTIMEZONE
TZID:Pacific/Auckland
BEGIN:STANDARD
TZOFFSETFROM:+1300
TZOFFSETTO:+1200
TZNAME:NZST
DTSTART:20250405T140000
END:STANDARD
BEGIN:DAYLIGHT
TZOFFSETFROM:+1200
TZOFFSETTO:+1300
TZNAME:NZDT
DTSTART:20250927T140000
END:DAYLIGHT
BEGIN:STANDARD
TZOFFSETFROM:+1300
TZOFFSETTO:+1200
TZNAME:NZST
DTSTART:20260404T140000
END:STANDARD
BEGIN:DAYLIGHT
TZOFFSETFROM:+1200
TZOFFSETTO:+1300
TZNAME:NZDT
DTSTART:20260926T140000
END:DAYLIGHT
BEGIN:STANDARD
TZOFFSETFROM:+1300
TZOFFSETTO:+1200
TZNAME:NZST
DTSTART:20270403T140000
END:STANDARD
BEGIN:DAYLIGHT
TZOFFSETFROM:+1200
TZOFFSETTO:+1300
TZNAME:NZDT
DTSTART:20270925T140000
END:DAYLIGHT
END:VTIMEZONE
BEGIN:VEVENT
DTSTART;TZID=Pacific/Auckland:20260721T093000
DTEND;TZID=Pacific/Auckland:20260721T123000
DTSTAMP:20260421T155246
CREATED:20251124T061929Z
LAST-MODIFIED:20251124T061929Z
UID:19936-1784626200-1784637000@www.exult.co.nz
SUMMARY:Growing Great Volunteer Teams Workshop - Online (July)
DESCRIPTION:Part 1: Tuesday 21 July 2026\, 9.30am-12.30pm\nPart 2: Wednesday 28 July 2026\, 9.30am-12.30pm\nHeld in two parts via Zoom.\nYour registration covers both Part 1 and Part 2. We will send you an email 7 days before the workshop outlining logistic details (including Zoom details for online workshops)\n\nPricing: Standard Ticket $95\, Tonic Member $85\, BayTrust subsidised registration $25 (for eligible BOP organisations\, check your eligibility here) \nBooking and refund terms and conditions \n\nPayment must be received before the workshop date.\nLogistic details for the workshop (including Zoom details for online workshops) will be sent 7 days before the workshop\, as long as payment has been received.\nRegistration fees are non-refundable.\nRegistration fees are transferable to another participant or can be held as a credit to be used within 1 year.\nIf the workshop is cancelled by Exult\, an alternative date will be offered where possible\, or a full refund is offered.\nExult reserves the right to alter the programme course details or facilitator.\n\n 
URL:https://www.exult.co.nz/events/growing-great-volunteer-teams-workshop-online-july/
LOCATION:ONLINE Zoom Meeting
CATEGORIES:Growing Great Volunteer Teams,Online Workshops
END:VEVENT
BEGIN:VEVENT
DTSTART;TZID=Pacific/Auckland:20260722T093000
DTEND;TZID=Pacific/Auckland:20260722T123000
DTSTAMP:20260421T155246
CREATED:20251124T065212Z
LAST-MODIFIED:20260323T232500Z
UID:19966-1784712600-1784723400@www.exult.co.nz
SUMMARY:Making Donations a Key Income Stream - Online (July)
DESCRIPTION:Date: Wednesday 22 July 2026\, 9.30am-12.30pm\nHeld online via Zoom (we’ll email you the link one week prior)\n\nPricing: (inc GST): Standard ticket $45\, Tonic Member $40\, BayTrust subsidised registration $25 (for eligible BOP organisations\, check your eligibility here) \nIf one of your colleagues would like to join you for this workshop select 2 (or more) tickets below and include their details as you complete the booking process. \nBooking and refund terms and conditions \n\nPayment must be received before the workshop date.\nLogistic details for the workshop (including Zoom details for online workshops) will be sent 7 days before the workshop\, as long as payment has been received.\nRegistration fees are non-refundable.\nRegistration fees are transferable to another participant or can be held as a credit to be used within 1 year.\nIf the workshop is cancelled by Exult\, an alternative date will be offered where possible\, or a full refund is offered.\nExult reserves the right to alter the programme course details or facilitator.
URL:https://www.exult.co.nz/events/making-donations-a-key-income-stream-online-june/
LOCATION:ONLINE Zoom Meeting
CATEGORIES:Making Donations a Key Income Stream,Online Workshops
END:VEVENT
END:VCALENDAR